BEGIN:VCALENDAR
VERSION:2.0
PRODID:-//Squarespace Inc/Squarespace 6//v6//EN
BEGIN:VEVENT
UID:5d2f4a9d2b56ee00010bdcbe@squarespace.com
DTSTAMP:20190929T201001Z
DTSTART:20100517T000000Z
DTEND:20100517T030000Z
SUMMARY:The Jim Owles Gay Pride Awards Ceremony 2010
GEO:40.741999;-73.997564
LOCATION:Elmo Restaurant\, 156 7th Avenue\, New York\, NY 10011
END:VEVENT
END:VCALENDAR
