BEGIN:VCALENDAR
VERSION:2.0
PRODID:-//Squarespace Inc/Squarespace 6//v6//EN
BEGIN:VEVENT
UID:5fb4b1d85b8fff05b372816e@squarespace.com
DTSTAMP:20201210T051004Z
DTSTART:20201219T000000Z
DTEND:20201219T020000Z
SUMMARY:Jim Owles Liberal Democratic Club Post Election Victory Celebration 
 and Award Ceremony
END:VEVENT
END:VCALENDAR
