BEGIN:VCALENDAR
VERSION:2.0
PRODID:-//Squarespace Inc/Squarespace 6//v6//EN
BEGIN:VEVENT
UID:604955889ceea9216b767c05@squarespace.com
DTSTAMP:20210310T232933Z
DTSTART:20210313T003000Z
DTEND:20210313T023000Z
SUMMARY:Cuomogate...What's Next?
END:VEVENT
END:VCALENDAR
